BEGIN:VCALENDAR
VERSION:2.0
PRODID:-//Southwest Detroit Business Association - ECPv6.15.19//NONSGML v1.0//EN
CALSCALE:GREGORIAN
METHOD:PUBLISH
X-ORIGINAL-URL:https://southwestdetroit.com
X-WR-CALDESC:Events for Southwest Detroit Business Association
REFRESH-INTERVAL;VALUE=DURATION:PT1H
X-Robots-Tag:noindex
X-PUBLISHED-TTL:PT1H
BEGIN:VTIMEZONE
TZID:UTC
BEGIN:STANDARD
TZOFFSETFROM:+0000
TZOFFSETTO:+0000
TZNAME:UTC
DTSTART:20250101T000000
END:STANDARD
END:VTIMEZONE
BEGIN:VEVENT
DTSTART;TZID=UTC:20260409T160000
DTEND;TZID=UTC:20260409T170000
DTSTAMP:20260423T151818
CREATED:20260407T192826Z
LAST-MODIFIED:20260409T124502Z
UID:1978-1775750400-1775754000@southwestdetroit.com
SUMMARY:SDBA Board Meeting
DESCRIPTION:
URL:https://southwestdetroit.com/event/sdba-board-meeting/
LOCATION:The Hub\, 1326 18th St\, Detroit\, MI\, 48216\, United States
END:VEVENT
BEGIN:VEVENT
DTSTART;TZID=UTC:20260325T150000
DTEND;TZID=UTC:20260325T190000
DTSTAMP:20260423T151818
CREATED:20260323T144510Z
LAST-MODIFIED:20260323T144510Z
UID:1953-1774450800-1774465200@southwestdetroit.com
SUMMARY:Walk-In Wednesdays: Taxes & Bookkeeping Support
DESCRIPTION:Join the Southwest Detroit Business Association (SDBA) for Walk-In Wednesdays\, a dedicated space for small business owners to receive free\, expert support on taxes and bookkeeping. \nIn partnership with Accounting Aid Society\, this session is designed to help entrepreneurs stay organized\, informed\, and prepared during tax season. Whether you’re just getting started\, need help catching up\, or want to improve your financial systems\, our trusted experts are here to guide you. \nAttendees will have the opportunity to: \n\n\nReceive tax support and guidance tailored to small businesses \n\n\nLearn bookkeeping best practices to stay organized year-round \n\n\nAsk one-on-one questions and get personalized support \n\n\nThis is a walk-in event—no appointment necessary. Stop by\, connect with experts\, and gain the clarity you need to move your business forward with confidence. \nEvent Details:📍 Location: SDBA – 7752 W. Vernor Hwy\, Detroit\, MI 48209🗓 Date: Wednesday\, March 25\, 2026⏰ Time: 3:00 PM – 7:00 PM \nTake the stress out of tax season and invest in the financial health of your business.
URL:https://southwestdetroit.com/event/walk-in-wednesdays-taxes-bookkeeping-support-3/
LOCATION:Southwest Detroit Business Association\, 7752 W Vernor Hwy\, Detroit\, Michigan\, 48209
ATTACH;FMTTYPE=image/jpeg:https://southwestdetroit.com/wp-content/uploads/2026/03/sdba-86.jpg
END:VEVENT
END:VCALENDAR